BEGIN:VCALENDAR
VERSION:2.0
PRODID:-//Queen of the Road Foundation (QOTRF) - ECPv6.15.20//NONSGML v1.0//EN
CALSCALE:GREGORIAN
METHOD:PUBLISH
X-WR-CALNAME:Queen of the Road Foundation (QOTRF)
X-ORIGINAL-URL:https://qotrf.org
X-WR-CALDESC:Events for Queen of the Road Foundation (QOTRF)
REFRESH-INTERVAL;VALUE=DURATION:PT1H
X-Robots-Tag:noindex
X-PUBLISHED-TTL:PT1H
BEGIN:VTIMEZONE
TZID:UTC
BEGIN:STANDARD
TZOFFSETFROM:+0000
TZOFFSETTO:+0000
TZNAME:UTC
DTSTART:20250101T000000
END:STANDARD
END:VTIMEZONE
BEGIN:VEVENT
DTSTART;VALUE=DATE:20260131
DTEND;VALUE=DATE:20261126
DTSTAMP:20260419T145220
CREATED:20200909T040227Z
LAST-MODIFIED:20260110T204010Z
UID:2060-1769817600-1795651199@qotrf.org
SUMMARY:QOTRF Virtual Gala: Celebrating Change
DESCRIPTION:Join our virtual gala celebrating QOTRF’s achievements and milestones. Enjoy inspiring stories\, live performances\, and opportunities to contribute directly to impactful programs.
URL:https://qotrf.org/event/qotrf-virtual-gala-celebrating-change/
LOCATION:Online
CATEGORIES:Donation
ATTACH;FMTTYPE=image/webp:https://qotrf.org/wp-content/uploads/2026/01/task_01kemkvdd0eat8sag3gwzsg3cb_1768070986_img_1.webp
ORGANIZER;CN="Famous Amos":MAILTO:cookies@aol.com
END:VEVENT
END:VCALENDAR